{"text_format":"3","workbook":"xlsx","n_sheets":2,"sheets":["BWA Kapitaldienstfähigkeit","BWA EK + Kennzahlen"],"not_rendered":{"defined_names":2,"comments":1},"read":"whole","date_system":"1900"}

{"sheet":"BWA Kapitaldienstfähigkeit","index":0,"n_rows":110,"n_cols":24,"rows_kept":110,"merged":[[0,1,0,12],[0,21,0,29],[1,1,2,29],[4,2,5,13],[4,16,5,21],[6,2,6,13],[6,16,6,21],[6,23,6,28],[8,2,9,13],[8,16,9,21],[8,23,9,28],[10,2,10,13],[10,16,10,21],[10,23,10,28],[12,2,13,13],[12,16,13,21],[12,23,13,28],[14,2,14,13],[14,16,14,21],[14,23,14,28],[16,2,17,28],[21,3,22,14],[21,15,22,15],[21,16,22,21],[21,23,22,28],[23,3,23,14],[23,16,23,21],[23,23,23,28],[25,15,26,15],[25,16,26,21],[25,23,26,28],[27,16,27,21],[27,23,27,28],[29,15,30,15],[29,16,30,21],[29,23,30,28],[31,16,31,21],[31,23,31,28],[33,15,34,15],[33,16,34,21],[33,23,34,28],[35,16,35,21],[35,23,35,28],[39,3,40,28],[41,3,41,14],[43,16,44,28],[45,16,45,21],[45,23,45,28],[46,2,47,28],[49,2,50,7],[49,9,50,14],[49,16,50,21],[49,23,50,28],[51,2,51,7],[51,9,51,14],[51,16,51,21],[51,23,51,28],[52,9,53,14],[52,16,53,21],[54,9,54,14],[54,16,54,21],[55,9,56,14],[55,15,56,15],[55,16,56,21],[57,9,57,14],[57,16,57,21],[58,9,59,14],[58,22,59,22],[58,23,59,28],[60,2,60,8],[60,9,60,14],[60,16,60,21],[60,23,60,28],[61,1,62,1],[61,2,62,7],[61,8,62,8],[61,9,62,14],[61,15,62,15],[61,16,62,21],[61,22,62,22],[61,23,62,28],[63,2,63,7],[63,9,63,14],[63,16,63,21],[63,23,63,28],[64,1,65,1],[64,2,65,7],[64,8,65,8],[64,9,65,14],[64,15,65,15],[64,16,65,21],[64,22,65,22],[64,23,65,28],[66,2,66,7],[66,9,66,14],[66,16,66,21],[66,23,66,28],[67,2,68,21],[67,23,68,28],[69,2,69,21],[69,23,69,28],[70,2,71,21],[70,23,71,28],[72,2,72,21],[72,23,72,28],[73,23,74,28],[75,23,75,28],[76,9,77,14],[76,15,77,15],[76,16,77,21],[76,22,77,22],[76,23,77,28],[78,9,78,14],[78,16,78,21],[78,23,78,28],[79,2,80,21],[79,23,80,28],[81,2,81,21],[81,23,81,28],[82,2,83,21],[82,23,83,28],[84,23,84,28],[85,23,86,28],[87,23,87,28],[88,9,89,14],[88,15,89,15],[88,16,89,21],[88,22,89,22],[88,23,89,28],[90,9,90,14],[90,16,90,21],[90,23,90,28],[91,23,92,28],[93,23,93,28],[94,2,95,7],[94,8,95,8],[94,9,95,14],[94,15,95,15],[94,16,95,21],[94,22,95,22],[94,23,95,28],[96,2,96,7],[96,9,96,14],[96,16,96,21],[96,23,96,28],[97,23,98,28],[99,23,99,28],[100,2,101,7],[100,8,101,8],[100,9,101,14],[100,15,101,15],[100,16,101,21],[100,22,101,22],[100,23,101,28],[102,2,102,7],[102,9,102,14],[102,16,102,21],[102,23,102,28],[103,16,104,21],[103,23,104,28],[105,16,105,21],[105,23,105,28],[106,2,107,28],[108,2,108,21],[109,1,109,7],[109,8,109,29]]}
[null,"Nutzungsbedingungen und Impressum",{"$nulls":19},"Seite 1"]
[null,"BWA-Easycheck: formale + materielle Plausibilisierung Ι Kapitaldienstfähigkeit (1/2)"]
[]
[]
[{"$nulls":16},"EUR",{"$nulls":6},false]
[]
[null,null,"Unternehmen",{"$nulls":13},"Währung in Tausend",{"$nulls":6},"Summen- und Saldenliste"]
[]
[]
[]
[null,null,"Branche",{"$nulls":13},"BWA Monat (in Ziffern)",{"$nulls":6},"BWA Jahr"]
[]
[{"$nulls":16},12,{"$nulls":6},{"$f":"IF(Q9=0,\"\",IF(Q13=12,Q9,IF(12-Q13+Q9<13,12-Q13+Q9,12-Q13+Q9-12)))","v":""}]
[]
[null,null,"Interne Zuordnungsnummer",{"$nulls":13},"Bilanzstichtag (in Ziffern)",{"$nulls":6},"BWA Buchungszeitraum (Monate)"]
[]
[null,null,"Formale Plausibilisierung: Hinweise auf erforderliche Korrekturen"]
[]
[]
[]
[]
[{"$nulls":3},{"$f":"IF(P22=1,\"Wareneinkauf muss abgegrenzt werden\",IF(P22=2,\"kalkulatorischer Wareneinsatz\",IF(P22=3,\"Wareneinsatz ist plausibel\",\"\")))","v":""},{"$nulls":12},"SKR 03",{"$nulls":6},"SKR 04"]
[]
[{"$nulls":3},"Bewertung für die materielle Plausibilisierung",{"$nulls":12},"Prozessgliederungsprinzip",{"$nulls":6},"Abschlussgliederungsprinzip"]
[]
[{"$nulls":15},"⬅︎","KG3",{"$nulls":6},"K51"]
[]
[{"$nulls":16},"BWA-Kennziffer",{"$nulls":6},"BWA-Kennziffer"]
[]
[{"$nulls":15},"⬅︎"]
[]
[{"$nulls":16},"BWA-Kennziffer (z. B. 400 = 40,0%)",{"$nulls":6},"BWA-Kennziffer (z. B. 400 = 40,0%)"]
[]
[{"$nulls":15},"⬅︎","KG4",{"$nulls":6},"K50"]
[]
[{"$nulls":16},"BWA-Kennziffer",{"$nulls":6},"BWA-Kennziffer"]
[]
[]
[]
[{"$nulls":3},{"$f":"IF(O45=1,\"Geschäftsführergehälter sind gebucht, Steuern auf Einkommen u. Ertrag (EESt.) z. B. mit 30% kalkulieren\",IF(O45=2,\"kalkulatorischen Unternehmerlohn und Einkommensteuer berücksichtigen\",\"\"))","v":""}]
[]
[{"$nulls":3},"Bewertung für die materielle Plausibilisierung"]
[]
[]
[]
[]
[null,null,"Materielle Plausibilisierung: nachhaltiges Betriebsergebnis vor Steuern"]
[]
[]
[{"$nulls":16},{"$f":"IF(AND(ISNUMBER(C50),ISNUMBER(J50)),1/C50*(J50-C50),\"\")","v":""}]
[]
[null,null,{"$f":"\"anteilige Gesamtleistung Vorjahr \"","v":"anteilige Gesamtleistung Vorjahr "},{"$nulls":6},{"$f":"\"BWA Gesamtleistung \"","v":"BWA Gesamtleistung "},{"$nulls":6},"Veränderung Gesamtleistung in %",{"$nulls":6},{"$f":"\"BWA Ergebnis \"","v":"BWA Ergebnis "}]
[{"$nulls":16},{"$f":"IF(ISNUMBER(J53),1/J50*J53,\"\")","v":""}]
[]
[{"$nulls":9},{"$f":"\"BWA Rohertrag (ROE)\"","v":"BWA Rohertrag (ROE)"},{"$nulls":6},"BWA Rohertrag (ROE) in %"]
[{"$nulls":9},{"$f":"IF(ISNUMBER(J53),+J50*Q56,\"\")","v":""},{"$nulls":5},"⬅︎"]
[]
[{"$nulls":9},{"$f":"\"Vergleich Rohertrag (ROE)\"","v":"Vergleich Rohertrag (ROE)"},{"$nulls":6},"Vergleich Rohertrag (ROE) in %"]
[null,null,0,{"$nulls":6},{"$f":"IF(ISNUMBER(J53),+J56-J53,\"\")","v":""},{"$nulls":6},false,{"$nulls":6},{"$f":"IF(ISNUMBER(J53),IF(Q59=TRUE,J59,0),\"\")","v":""}]
[]
[{"$nulls":9},{"$f":"\"Abgrenzung Rohertrag (ROE)\"","v":"Abgrenzung Rohertrag (ROE)"},{"$nulls":6},"Abgrenzung ROE plausibel?",{"$nulls":5},"=",{"$f":"\"Rohertrag (ROE) Korrektur \"","v":"Rohertrag (ROE) Korrektur "}]
[{"$nulls":9},{"$f":"IF(ISNUMBER(C62),C62/12*X13,\"\")","v":""},{"$nulls":13},{"$f":"IF(ISNUMBER(X50),IF(ISNUMBER(C62),Q62-J62,\"\"),\"\")","v":""}]
[]
[null,null,{"$f":"\"AfA Vorjahr \"","v":"AfA Vorjahr "},{"$nulls":5},"=",{"$f":"\"Anteilige AfA Vorjahr \"","v":"Anteilige AfA Vorjahr "},{"$nulls":5},"-",{"$f":"\"BWA AfA \"","v":"BWA AfA "},{"$nulls":5},"=",{"$f":"\"Korrektur BWA-AfA \"","v":"Korrektur BWA-AfA "}]
[{"$nulls":9},{"$f":"IF(ISNUMBER(C65),C65/12*X13,\"\")","v":""},{"$nulls":13},{"$f":"IF(ISNUMBER(C65),-J65/Q65,\"\")","v":""}]
[]
[null,null,{"$f":"\"SuSa-Neuinvestitionen \"","v":"SuSa-Neuinvestitionen "},{"$nulls":5},"=",{"$f":"\"Anteilige AfA Invest. \"","v":"Anteilige AfA Invest. "},{"$nulls":5},":","Abschreibungsdauer in Jahren",{"$nulls":5},"=",{"$f":"\"Korrektur AfA Invest. \"","v":"Korrektur AfA Invest. "}]
[]
[]
[null,null,"Erläuterungen zu sonstigen Korrekturpositionen (z. B.: notleidende Forderungen, Personalaufwand, Fehlbuchungen)",{"$nulls":20},{"$f":"\"Korrektur Sonstige \"","v":"Korrektur Sonstige "}]
[]
[]
[null,null,{"$f":"IF(O45=2,\"Korrekturposition EESt. entfällt, da bei Einzelunternehmen nicht im Betriebsergebnis enthalten!\",\"Erläuterungen zu gebuchten Steuern auf Einkommen und Ertrag (EESt.)\")","v":"Erläuterungen zu gebuchten Steuern auf Einkommen und Ertrag (EESt.)"},{"$nulls":20},{"$f":"IF(O45=2,\"entfällt\",\"(+) Neutralisierung EESt. \")","v":"(+) Neutralisierung EESt. "}]
[{"$nulls":23},{"$f":"IF(ISNUMBER(X50),+X50+IF(ISNUMBER(X59),X59,0)+IF(ISNUMBER(X62),X62,0)+IF(ISNUMBER(X65),X65,0)+X68+X71,\"\")","v":""}]
[]
[{"$nulls":23},{"$f":"\" = Gewinn/Verlust vor EESt. \"","v":" = Gewinn/Verlust vor EESt. "}]
[{"$nulls":23},{"$f":"IF(ISNUMBER(X50),IF(+Q77>0,Q77,-Q77)+IF(J77<0,J77,-J77),\"\")","v":""}]
[]
[{"$nulls":9},{"$f":"\"(-) neutraler Ertrag \"","v":"(-) neutraler Ertrag "},{"$nulls":6},{"$f":"\"(+) neutraler Aufwand \"","v":"(+) neutraler Aufwand "},{"$nulls":5},"=",{"$f":"\"Neutraler Ertr./Aufw. \"","v":"Neutraler Ertr./Aufw. "}]
[{"$nulls":23},{"$f":"IF(ISNUMBER(X50),+X74+X77,\"\")","v":""}]
[]
[null,null,"Erläuterungen zum neutralen Ertrag und zum neutralen Aufwand",{"$nulls":20},{"$f":"\" = Betriebsergebnis \"","v":" = Betriebsergebnis "}]
[null,null,"Kapitaldienstfähigkeit: Cash-flow und Kapitaldienstdeckung",{"$nulls":20},{"$f":"IF(ISNUMBER(X50),+IF(ISNUMBER(X62),-X62,0)+IF(ISNUMBER(X65),-X65,0)+Q62,\"\")","v":""}]
[]
[{"$nulls":23},{"$f":"\"AfA \"","v":"AfA "}]
[{"$nulls":23},{"$f":"IF(ISNUMBER(X50),+X80+IF(ISNUMBER(X83),X83,0),\"\")","v":""}]
[]
[{"$nulls":23},{"$f":"\"= Cash-flow vor EESt. \"","v":"= Cash-flow vor EESt. "}]
[{"$nulls":23},{"$f":"IF(ISNUMBER(X50),+J89+Q89,\"\")","v":""}]
[]
[{"$nulls":9},{"$f":"\"BWA Zinsaufwand \"","v":"BWA Zinsaufwand "},{"$nulls":5},"+",{"$f":"\"BWA Leasingaufwand \"","v":"BWA Leasingaufwand "},{"$nulls":5},"=",{"$f":"\"Zinsaufwand \"","v":"Zinsaufwand "}]
[{"$nulls":23},{"$f":"IF(ISNUMBER(X50),+X86+IF(ISNUMBER(X89),X89,0),\"\")","v":""}]
[]
[{"$nulls":23},{"$f":"\"= erweiterter Cash-flow \"","v":"= erweiterter Cash-flow "}]
[null,null,{"$f":"IF(ISNUMBER(X50),IF(X74>0,X74*I95,0),\"\")","v":""},{"$nulls":5},{"v":0.3,"d":"30%"},{"$f":"IF(ISNUMBER(X50),X83*P95,\"\")","v":""},{"$nulls":5},{"v":0.2,"d":"20%"},{"$nulls":7},{"$f":"IF(ISNUMBER($X$50),-C95-J95-Q95,\"\")","v":""}]
[]
[null,null,{"$f":"IF(O45=2,\"Einkommensteuer \",\"KöSt. + Gew.St. \")","v":"KöSt. + Gew.St. "},{"$nulls":5},"+",{"$f":"\"Reinvestitionsrücklage \"","v":"Reinvestitionsrücklage "},{"$nulls":5},"+",{"$f":"IF(O45=2,\"Unternehmerlohn \",\"Ausschüttungen \")","v":"Ausschüttungen "},{"$nulls":5},"=",{"$f":"\"Liquiditätsmindernd \"","v":"Liquiditätsmindernd "}]
[{"$nulls":23},{"$f":"IF(ISNUMBER(X50),IF(ISNUMBER(X92),X92,0)+IF(ISNUMBER(X95),X95,0),\"\")","v":""}]
[]
[{"$nulls":23},{"$f":"\"= Kapitaldienstgrenze \"","v":"= Kapitaldienstgrenze "}]
[{"$nulls":23},{"$f":"IF(ISNUMBER($X$50),-C101-J101-Q101,\"\")","v":""}]
[]
[null,null,{"$f":"\"zukünftige Tilgung \"","v":"zukünftige Tilgung "},{"$nulls":5},"+",{"$f":"\"zukünftiger Zinsaufwand \"","v":"zukünftiger Zinsaufwand "},{"$nulls":5},"+",{"$f":"\"zuk. Leasingaufwand \"","v":"zuk. Leasingaufwand "},{"$nulls":5},"=",{"$f":"\"zuk. Kapitaldienst \"","v":"zuk. Kapitaldienst "}]
[{"$nulls":16},{"$f":"IF(X101<0,1/X98*-X101,\"\")","v":""},{"$nulls":6},{"$f":"IF(ISNUMBER($X$50),+X98+IF(ISNUMBER(X101),X101,0),\"\")","v":""}]
[]
[{"$nulls":16},"Ausschöpfungsgrad in %",{"$nulls":6},{"$f":"\"= freier Cash-flow \"","v":"= freier Cash-flow "}]
[]
[]
[null,null,"Anmerkungen"]
[null,"Version vom 04.01.2018",{"$nulls":6},"© Grigg Consulting | Inh. Ronny Grigg | info@grigg-consulting.de | www.grigg-consulting.de"]

{"sheet":"BWA EK + Kennzahlen","index":1,"n_rows":109,"n_cols":24,"rows_kept":109,"merged":[[0,1,0,12],[0,21,0,29],[1,1,2,29],[5,2,6,13],[5,16,6,21],[5,23,6,28],[7,2,7,13],[7,16,7,21],[7,23,7,28],[9,2,10,28],[11,2,11,13],[13,3,14,28],[15,3,15,14],[17,16,18,28],[19,16,19,21],[19,23,19,28],[21,23,22,28],[22,3,23,14],[22,15,23,15],[22,16,23,21],[23,23,23,28],[24,9,25,14],[24,16,25,21],[24,23,25,28],[26,9,26,14],[26,16,26,21],[26,23,26,28],[27,2,28,7],[27,9,28,14],[27,16,28,21],[27,23,28,28],[29,2,29,7],[29,9,29,14],[29,16,29,21],[29,23,29,28],[30,9,31,14],[30,16,31,21],[30,23,31,28],[32,9,32,14],[32,16,32,21],[32,23,32,28],[33,2,34,21],[33,23,34,28],[35,2,35,21],[35,23,35,28],[37,2,38,28],[40,2,40,28],[41,2,42,7],[41,9,42,14],[41,16,42,21],[41,23,42,28],[43,2,43,7],[43,9,43,14],[43,16,43,21],[43,23,43,28],[45,2,45,28],[46,2,47,7],[46,9,47,14],[46,16,47,21],[46,23,47,28],[48,2,48,7],[48,9,48,14],[48,16,48,21],[48,23,48,28],[50,2,50,28],[51,2,52,7],[51,9,52,14],[51,16,52,21],[51,23,52,28],[53,2,53,7],[53,9,53,14],[53,16,53,21],[53,23,53,28],[55,2,55,28],[56,2,57,7],[56,9,57,14],[56,16,57,21],[56,23,57,28],[58,2,58,7],[58,9,58,14],[58,16,58,21],[58,23,58,28],[60,2,60,28],[61,2,62,7],[61,9,62,14],[61,16,62,21],[61,23,62,28],[63,2,63,7],[63,9,63,14],[63,16,63,21],[63,23,63,28],[65,2,65,28],[66,2,67,7],[66,9,67,14],[66,16,67,21],[66,23,67,28],[68,2,68,7],[68,9,68,14],[68,16,68,21],[68,23,68,28],[70,2,70,28],[71,2,72,7],[71,9,72,14],[71,16,72,21],[71,23,72,28],[73,2,73,7],[73,9,73,14],[73,16,73,21],[73,23,73,28],[75,2,80,28],[81,2,81,21],[83,2,84,28],[88,3,99,28],[100,3,100,14],[101,2,102,2],[102,15,103,15],[104,16,104,21],[104,23,104,28],[105,3,106,14],[105,16,106,28],[107,3,107,14],[107,16,107,27],[108,1,108,7],[108,8,108,29]]}
[{"$nulls":21},"Seite 2"]
[null,"BWA-Easycheck: Eigenkapital Ι Kennzahlen Ι Votum (2/2)"]
[]
[]
[]
[null,null,{"$f":"IF(ISTEXT('BWA Kapitaldienstfähigkeit'!C5),'BWA Kapitaldienstfähigkeit'!C5,\"\")","v":""},{"$nulls":13},{"$f":"IF(ISNUMBER('BWA Kapitaldienstfähigkeit'!Q9),'BWA Kapitaldienstfähigkeit'!Q9,\"\")","v":""},{"$nulls":6},{"$f":"IF(ISNUMBER('BWA Kapitaldienstfähigkeit'!X9),'BWA Kapitaldienstfähigkeit'!X9,\"\")","v":""}]
[]
[null,null,"Unternehmen",{"$nulls":13},"BWA Monat (in Ziffern)",{"$nulls":6},"BWA Jahr"]
[]
[null,null,"Hochrechnung (unterjährige) Eigenkapitalentwicklung"]
[]
[]
[]
[{"$nulls":3},{"$f":"IF('BWA Kapitaldienstfähigkeit'!X5=TRUE,IF(N19=1,\"Wirtschaftliches Eigenkapital (nicht bilanzielles EK) inkl. der Kompensationen und Hinzurechnungen.\",IF(N19=2,\"Hochrechnung Eigenkapital entfällt. Alternativ den privaten Vermögensstatus analysieren.\",\"\")),IF('BWA Kapitaldienstfähigkeit'!X5=FALSE,\"Ohne Summen- und Saldenliste ist eine Hochrechnung des Eigenkapitals ggf. unvollständig!\",\"\"))","v":"Ohne Summen- und Saldenliste ist eine Hochrechnung des Eigenkapitals ggf. unvollständig!"}]
[]
[{"$nulls":3},"Hinweise für die Analyse"]
{"$rows_empty":7}
[{"$nulls":23},{"$f":"\"Wirtschaftl. EK Vorjahr \"","v":"Wirtschaftl. EK Vorjahr "}]
[{"$nulls":9},{"$f":"'BWA Kapitaldienstfähigkeit'!X74","v":""},{"$nulls":6},{"$f":"IF(ISNUMBER($X$22),-'BWA Kapitaldienstfähigkeit'!C95,\"\")","v":""},{"$nulls":6},{"$f":"IF(ISNUMBER($X$22),+J25+Q25,\"\")","v":""}]
[]
[{"$nulls":9},{"$f":"\"Gewinn/Verlust vor EESt. \"","v":"Gewinn/Verlust vor EESt. "},{"$nulls":5},"-",{"$f":"'BWA Kapitaldienstfähigkeit'!C97","v":"KöSt. + Gew.St. "},{"$nulls":5},"=",{"$f":"\"Gewinn/Verlust nach EESt. \"","v":"Gewinn/Verlust nach EESt. "}]
[null,null,{"$f":"IF(ISNUMBER($X$22),IF('BWA Kapitaldienstfähigkeit'!O45=1,-'BWA Kapitaldienstfähigkeit'!Q95,0),\"\")","v":""},{"$nulls":20},{"$f":"IF(ISNUMBER($X$22),+C28+IF(J28<0,J28,-J28)+IF(Q28>0,Q28,-Q28),\"\")","v":""}]
[]
[null,null,{"$f":"\"Ausschüttungen \"","v":"Ausschüttungen "},{"$nulls":5},"-",{"$f":"\"Entnahmen \"","v":"Entnahmen "},{"$nulls":5},"+",{"$f":"\"Einlagen \"","v":"Einlagen "},{"$nulls":5},"=",{"$f":"\"Saldo Entnahmen/Aussch. \"","v":"Saldo Entnahmen/Aussch. "}]
[{"$nulls":23},{"$f":"IF(ISNUMBER($X$22),+IF(J31<0,J31,-J31)+IF(Q31>0,Q31,-Q31),\"\")","v":""}]
[]
[{"$nulls":9},{"$f":"\"Gesellsch.Darl. Soll \"","v":"Gesellsch.Darl. Soll "},{"$nulls":5},"+",{"$f":"\"Gesellsch.Darl. Haben \"","v":"Gesellsch.Darl. Haben "},{"$nulls":5},"=",{"$f":"\"Saldo Gesellsch.Darl. \"","v":"Saldo Gesellsch.Darl. "}]
[{"$nulls":23},{"$f":"IF(ISNUMBER($X$22),+X22+X25+X28+X31,\"\")","v":""}]
[]
[null,null,"Erläuterungen zu den Gesellschafter Darlehen",{"$nulls":20},{"$f":"\"= Wirtsch. EK aktuell \"","v":"= Wirtsch. EK aktuell "}]
[]
[null,null,"Hochrechnung (unterjähriger) Kennzahlen"]
[]
[]
[null,null,"Eigenkapital in % der Bilanzsumme"]
[null,null,{"v":100,"d":"100.0"},{"$nulls":13},{"$f":"X34","v":""},{"$nulls":6},{"$f":"IF(ISNUMBER(J42),+C42/J42*Q42*0.01,\"\")","v":""}]
[]
[null,null,"Zähler",{"$nulls":5},":",{"$f":"\"Bilanzsumme Vorjahr \"","v":"Bilanzsumme Vorjahr "},{"$nulls":5},"x",{"$f":"\"Wirtschaftl. EK aktuell \"","v":"Wirtschaftl. EK aktuell "},{"$nulls":6},{"$f":"\"= Eigenkapitalquote in %\"","v":"= Eigenkapitalquote in %"}]
[]
[null,null,"Zahlungsziel für Forderungen aus Lieferungen und Leistungen"]
[{"$nulls":9},{"$f":"IF(ISNUMBER(C47),30*'BWA Kapitaldienstfähigkeit'!X13,\"\")","v":""},{"$nulls":6},{"$f":"IF(ISNUMBER('BWA Kapitaldienstfähigkeit'!J50),'BWA Kapitaldienstfähigkeit'!J50,\"\")","v":""},{"$nulls":6},{"$f":"IF(ISNUMBER(C47),C47*J47/Q47,\"\")","v":""}]
[]
[null,null,{"$f":"\"Forderungen aus LuL \"","v":"Forderungen aus LuL "},{"$nulls":5},"x","Tage (anteilig auf BWA-Periode)",{"$nulls":5},":",{"$f":"\"BWA-Umsatz \"","v":"BWA-Umsatz "},{"$nulls":6},{"$f":"\"= Debitorenzahlungsziel in Tagen\"","v":"= Debitorenzahlungsziel in Tagen"}]
[]
[null,null,"Zahlungsziel für Verbindlichkeiten aus Lieferungen und Leistungen"]
[{"$nulls":9},{"$f":"J47","v":""},{"$nulls":6},{"$f":"IF(ISNUMBER(C52),(1-IF('BWA Kapitaldienstfähigkeit'!Q59=TRUE,'BWA Kapitaldienstfähigkeit'!Q56,'BWA Kapitaldienstfähigkeit'!Q53))*'BWA Kapitaldienstfähigkeit'!J50,\"\")","v":""},{"$nulls":6},{"$f":"IF(ISNUMBER(C52),C52*J52/Q52,\"\")","v":""}]
[]
[null,null,{"$f":"\"Verbindlichk. aus LuL \"","v":"Verbindlichk. aus LuL "},{"$nulls":5},"x","Tage (anteilig auf BWA-Periode)",{"$nulls":5},":",{"$f":"\"Materialaufwand \"","v":"Materialaufwand "},{"$nulls":6},{"$f":"\"= Kreditorenzahlungsziel in Tagen\"","v":"= Kreditorenzahlungsziel in Tagen"}]
[]
[null,null,"Lagerdauer"]
[{"$nulls":9},{"$f":"J47","v":""},{"$nulls":6},{"$f":"Q52","v":""},{"$nulls":6},{"$f":"IF(ISNUMBER(C57),C57*J57/Q57,\"\")","v":""}]
[]
[null,null,{"$f":"\"Vorräte \"","v":"Vorräte "},{"$nulls":5},"x","Tage (anteilig auf BWA-Periode)",{"$nulls":5},":",{"$f":"\"Materialaufwand \"","v":"Materialaufwand "},{"$nulls":6},{"$f":"\"= Lagerdauer in Tagen\"","v":"= Lagerdauer in Tagen"}]
[]
[null,null,"Betriebsergebnis nach EESt. in % der Gesamtleistung"]
[null,null,{"v":100,"d":"100.0"},{"$nulls":6},{"$f":"IF(ISNUMBER('BWA Kapitaldienstfähigkeit'!$J$50),'BWA Kapitaldienstfähigkeit'!$J$50,\"\")","v":""},{"$nulls":6},{"$f":"IF(ISNUMBER('BWA Kapitaldienstfähigkeit'!J50),'BWA Kapitaldienstfähigkeit'!X80-'BWA Kapitaldienstfähigkeit'!C95,\"\")","v":""},{"$nulls":6},{"$f":"IF(ISNUMBER(J62),+C62/J62*Q62*0.01,\"\")","v":""}]
[]
[null,null,"Zähler",{"$nulls":5},":",{"$f":"'BWA Kapitaldienstfähigkeit'!$J$52","v":"BWA Gesamtleistung "},{"$nulls":5},"x",{"$f":"\"Betriebsergebnis nach EESt. \"","v":"Betriebsergebnis nach EESt. "},{"$nulls":6},{"$f":"\"= Betriebsergebnis in %\"","v":"= Betriebsergebnis in %"}]
[]
[null,null,"Cash-Flow nach EESt. in % der Gesamtleistung"]
[null,null,{"v":100,"d":"100.0"},{"$nulls":6},{"$f":"IF(ISNUMBER('BWA Kapitaldienstfähigkeit'!$J$50),'BWA Kapitaldienstfähigkeit'!$J$50,\"\")","v":""},{"$nulls":6},{"$f":"IF(ISNUMBER('BWA Kapitaldienstfähigkeit'!X86),'BWA Kapitaldienstfähigkeit'!X86-'BWA Kapitaldienstfähigkeit'!C95,\"\")","v":""},{"$nulls":6},{"$f":"IF(ISNUMBER(J67),+C67/J67*Q67*0.01,\"\")","v":""}]
[]
[null,null,"Zähler",{"$nulls":5},":",{"$f":"'BWA Kapitaldienstfähigkeit'!$J$52","v":"BWA Gesamtleistung "},{"$nulls":5},"x",{"$f":"\"Cash-Flow nach EESt. \"","v":"Cash-Flow nach EESt. "},{"$nulls":6},{"$f":"\"= Cash-flow nach EESt. in %\"","v":"= Cash-flow nach EESt. in %"}]
[]
[null,null,"Dynamischer Verschuldungsgrad in Jahren"]
[{"$nulls":9},{"$f":"IF(ISNUMBER(C72),J47/360,\"\")","v":""},{"$nulls":6},{"$f":"IF(ISNUMBER(C72),+'BWA Kapitaldienstfähigkeit'!X86-'BWA Kapitaldienstfähigkeit'!C95,\"\")","v":""},{"$nulls":6},{"$f":"IF(ISNUMBER(C72),IF(C72*J72/Q72>0,C72*J72/Q72,\"negativ\"),\"\")","v":""}]
[]
[null,null,{"$f":"\"Fremdkapital \"","v":"Fremdkapital "},{"$nulls":5},"x","Jahr (anteilig auf BWA-Periode)",{"$nulls":5},":",{"$f":"\"Cash-flow nach EESt. \"","v":"Cash-flow nach EESt. "},{"$nulls":6},{"$f":"\"= dynam. Verschuldung in Jahren\"","v":"= dynam. Verschuldung in Jahren"}]
{"$rows_empty":7}
[null,null,"Bewertung der Kennzahlen"]
[]
[null,null,"Bewertung"]
{"$rows_empty":16}
[{"$nulls":3},"Erläuterungen zum Votum"]
[]
[{"$nulls":15},0]
[]
[]
[]
[]
[{"$nulls":3},"Ort, Datum",{"$nulls":12},"Name, Unterschrift"]
[null,{"$f":"'BWA Kapitaldienstfähigkeit'!B110:H110","v":"Version vom 04.01.2018"},{"$nulls":6},"© Grigg Consulting | Inh. Ronny Grigg | info@grigg-consulting.de | www.grigg-consulting.de"]